BEGIN:VCALENDAR
VERSION:2.0
PRODID:-//Big Up The 90s - ECPv6.15.13//NONSGML v1.0//EN
CALSCALE:GREGORIAN
METHOD:PUBLISH
X-WR-CALNAME:Big Up The 90s
X-ORIGINAL-URL:https://bigupthenineties.net
X-WR-CALDESC:Events for Big Up The 90s
REFRESH-INTERVAL;VALUE=DURATION:PT1H
X-Robots-Tag:noindex
X-PUBLISHED-TTL:PT1H
BEGIN:VTIMEZONE
TZID:Europe/London
BEGIN:DAYLIGHT
TZOFFSETFROM:+0000
TZOFFSETTO:+0100
TZNAME:BST
DTSTART:20250330T010000
END:DAYLIGHT
BEGIN:STANDARD
TZOFFSETFROM:+0100
TZOFFSETTO:+0000
TZNAME:GMT
DTSTART:20251026T010000
END:STANDARD
BEGIN:DAYLIGHT
TZOFFSETFROM:+0000
TZOFFSETTO:+0100
TZNAME:BST
DTSTART:20260329T010000
END:DAYLIGHT
BEGIN:STANDARD
TZOFFSETFROM:+0100
TZOFFSETTO:+0000
TZNAME:GMT
DTSTART:20261025T010000
END:STANDARD
BEGIN:DAYLIGHT
TZOFFSETFROM:+0000
TZOFFSETTO:+0100
TZNAME:BST
DTSTART:20270328T010000
END:DAYLIGHT
BEGIN:STANDARD
TZOFFSETFROM:+0100
TZOFFSETTO:+0000
TZNAME:GMT
DTSTART:20271031T010000
END:STANDARD
END:VTIMEZONE
BEGIN:VEVENT
DTSTART;TZID=Europe/London:20261025T190000
DTEND;TZID=Europe/London:20261025T230000
DTSTAMP:20260423T213932
CREATED:20250721T133711Z
LAST-MODIFIED:20250721T133711Z
UID:261000-1792954800-1792969200@bigupthenineties.net
SUMMARY:The Crew Bar
DESCRIPTION:
URL:https://bigupthenineties.net/event/the-crew-bar-3/
LOCATION:The Crew Bar\, 75 Queens Rd\, Nuneaton\, United Kingdom
END:VEVENT
END:VCALENDAR