BEGIN:VCALENDAR
VERSION:2.0
PRODID:-//Big Up The 90s - ECPv6.15.13//NONSGML v1.0//EN
CALSCALE:GREGORIAN
METHOD:PUBLISH
X-WR-CALNAME:Big Up The 90s
X-ORIGINAL-URL:https://bigupthenineties.net
X-WR-CALDESC:Events for Big Up The 90s
REFRESH-INTERVAL;VALUE=DURATION:PT1H
X-Robots-Tag:noindex
X-PUBLISHED-TTL:PT1H
BEGIN:VTIMEZONE
TZID:Europe/London
BEGIN:DAYLIGHT
TZOFFSETFROM:+0000
TZOFFSETTO:+0100
TZNAME:BST
DTSTART:20250330T010000
END:DAYLIGHT
BEGIN:STANDARD
TZOFFSETFROM:+0100
TZOFFSETTO:+0000
TZNAME:GMT
DTSTART:20251026T010000
END:STANDARD
BEGIN:DAYLIGHT
TZOFFSETFROM:+0000
TZOFFSETTO:+0100
TZNAME:BST
DTSTART:20260329T010000
END:DAYLIGHT
BEGIN:STANDARD
TZOFFSETFROM:+0100
TZOFFSETTO:+0000
TZNAME:GMT
DTSTART:20261025T010000
END:STANDARD
BEGIN:DAYLIGHT
TZOFFSETFROM:+0000
TZOFFSETTO:+0100
TZNAME:BST
DTSTART:20270328T010000
END:DAYLIGHT
BEGIN:STANDARD
TZOFFSETFROM:+0100
TZOFFSETTO:+0000
TZNAME:GMT
DTSTART:20271031T010000
END:STANDARD
END:VTIMEZONE
BEGIN:VEVENT
DTSTART;TZID=Europe/London:20260919T190000
DTEND;TZID=Europe/London:20260919T230000
DTSTAMP:20260424T004615
CREATED:20250721T133236Z
LAST-MODIFIED:20260110T141326Z
UID:260996-1789844400-1789858800@bigupthenineties.net
SUMMARY:The Robin 2
DESCRIPTION:
URL:https://bigupthenineties.net/event/the-robin-2/
LOCATION:The Robin 2\, Bilston\, United Kingdom
END:VEVENT
BEGIN:VEVENT
DTSTART;TZID=Europe/London:20261025T190000
DTEND;TZID=Europe/London:20261025T230000
DTSTAMP:20260424T004615
CREATED:20250721T133711Z
LAST-MODIFIED:20250721T133711Z
UID:261000-1792954800-1792969200@bigupthenineties.net
SUMMARY:The Crew Bar
DESCRIPTION:
URL:https://bigupthenineties.net/event/the-crew-bar-3/
LOCATION:The Crew Bar\, 75 Queens Rd\, Nuneaton\, United Kingdom
END:VEVENT
BEGIN:VEVENT
DTSTART;TZID=Europe/London:20261114T070000
DTEND;TZID=Europe/London:20261114T233000
DTSTAMP:20260424T004615
CREATED:20251106T112959Z
LAST-MODIFIED:20260110T142016Z
UID:261029-1794639600-1794699000@bigupthenineties.net
SUMMARY:VENUE 23\, Wakefield
DESCRIPTION:VENUE 23\, 23 Smyth St\, Wakefield\, WF1 1ED \nBig up the 90’s – The 90’s Experience! \nA live celebration of the music and fashions of the 90s. From boy bands to brit pop via girl power. \n“DANCE THE NIGHT AWAY” and Live “LA VIDA LOCA” when you head on down to the “LOVE SHACK.” You can “RELIGHT MY FIRE” with the guys responsible for Kick up the 80s. Justin\, Dean\, Ant and Mart\, giving you A “BRIMFUL OF ASHA” and making you “DIZZY” with delight. \n“MAN….I FEEL LIKE A WOMAN” when you “HIT ME BABY ONE MORE TIME.” At the ultimate 90s party you can “DISCO 2000” and do “THE MACARENA.” On any “SATURDAY NIGHT” you’ll feel “ALRIGHT”. \nCome “STEP ON” and “LET ME ENTERTAIN YOU.” While you “Mmmm BOP” all night long you won’t “SIT DOWN” and can never “STOP” dancing. \n“DON’T LOOK BACK IN ANGER” as you leave your “PARKLIFE” behind for the night you know “I’LL BE THERE FOR YOU” To “PLACE YOUR HANDS” on any “MYSTERIOUS GIRL”! \nSo “EVERYBODY GET UP”\, “HANG TOUGH” and party with the “ONE AND ONLY” BIG UP THE 90’s \nBig up the 90s will give you the best 90’s party night of your life. Bringing all the hits from the 90’s Big up the 90’s can accommodate most size venues from small venues to large theatres. They have also made a few festival appearances. Including playing to over 20000 people at the now Legendary Mathew Street Festival in Liverpool. The 90s party will have you up and dancing in no time. \nOnce again Big up the 90s have a very impressive client base including\, Woverhampton Racecourse\, The Robin 2 Bilston\, Holiday Inn\, Crewe Football Club and so many more……..
URL:https://bigupthenineties.net/event/venue-23-wakefield-2/
LOCATION:VENUE 23\, 23 Smyth Street\, Wakefield\, WF1 1ED
END:VEVENT
BEGIN:VEVENT
DTSTART;TZID=Europe/London:20261128T080000
DTEND;TZID=Europe/London:20261128T170000
DTSTAMP:20260424T004615
CREATED:20251110T104814Z
LAST-MODIFIED:20251110T104814Z
UID:261032-1795852800-1795885200@bigupthenineties.net
SUMMARY:The Central Bar and Venue\, Ibstock
DESCRIPTION:The Central Bar and Venue\, Ibstock
URL:https://bigupthenineties.net/event/the-central-bar-and-venue-ibstock/
LOCATION:The Central Bar and Venue\, Ibstock\, 28 Central Avenue\, Ibstock\, LE67 6NF\, Ibstock\,\, LE67 6NF\, United Kingdom
END:VEVENT
BEGIN:VEVENT
DTSTART;TZID=Europe/London:20261205T070000
DTEND;TZID=Europe/London:20261205T233000
DTSTAMP:20260424T004615
CREATED:20260110T142605Z
LAST-MODIFIED:20260110T142617Z
UID:261039-1796454000-1796513400@bigupthenineties.net
SUMMARY:CREWE ALEXANDRA FC
DESCRIPTION:CREWE ALEXANDRA FC. Mornflake Stadium Gresty Road\, Crewe\, Cheshire\, CW2 6EB \nBig up the 90’s – The 90’s Experience! \nA live celebration of the music and fashions of the 90s. From boy bands to brit pop via girl power. \n“DANCE THE NIGHT AWAY” and Live “LA VIDA LOCA” when you head on down to the “LOVE SHACK.” You can “RELIGHT MY FIRE” with the guys responsible for Kick up the 80s. Justin\, Dean\, Ant and Mart\, giving you A “BRIMFUL OF ASHA” and making you “DIZZY” with delight. \n“MAN….I FEEL LIKE A WOMAN” when you “HIT ME BABY ONE MORE TIME.” At the ultimate 90s party you can “DISCO 2000” and do “THE MACARENA.” On any “SATURDAY NIGHT” you’ll feel “ALRIGHT”. \nCome “STEP ON” and “LET ME ENTERTAIN YOU.” While you “Mmmm BOP” all night long you won’t “SIT DOWN” and can never “STOP” dancing. \n“DON’T LOOK BACK IN ANGER” as you leave your “PARKLIFE” behind for the night you know “I’LL BE THERE FOR YOU” To “PLACE YOUR HANDS” on any “MYSTERIOUS GIRL”! \nSo “EVERYBODY GET UP”\, “HANG TOUGH” and party with the “ONE AND ONLY” BIG UP THE 90’s \nBig up the 90s will give you the best 90’s party night of your life. Bringing all the hits from the 90’s Big up the 90’s can accommodate most size venues from small venues to large theatres. They have also made a few festival appearances. Including playing to over 20000 people at the now Legendary Mathew Street Festival in Liverpool. The 90s party will have you up and dancing in no time. \nOnce again Big up the 90s have a very impressive client base including\, Woverhampton Racecourse\, The Robin 2 Bilston\, Holiday Inn\, Crewe Football Club and so many more……..
URL:https://bigupthenineties.net/event/crewe-alexandra-fc-2/
LOCATION:Crewe Alexandra FC\, The Alexandra Stadium Gresty Road\, Crewe\, Cheshire\, United Kingdom
END:VEVENT
END:VCALENDAR