BEGIN:VCALENDAR
VERSION:2.0
PRODID:-//Big Up The 90s - ECPv6.15.13//NONSGML v1.0//EN
CALSCALE:GREGORIAN
METHOD:PUBLISH
X-WR-CALNAME:Big Up The 90s
X-ORIGINAL-URL:https://bigupthenineties.net
X-WR-CALDESC:Events for Big Up The 90s
REFRESH-INTERVAL;VALUE=DURATION:PT1H
X-Robots-Tag:noindex
X-PUBLISHED-TTL:PT1H
BEGIN:VTIMEZONE
TZID:Europe/London
BEGIN:DAYLIGHT
TZOFFSETFROM:+0000
TZOFFSETTO:+0100
TZNAME:BST
DTSTART:20240331T010000
END:DAYLIGHT
BEGIN:STANDARD
TZOFFSETFROM:+0100
TZOFFSETTO:+0000
TZNAME:GMT
DTSTART:20241027T010000
END:STANDARD
BEGIN:DAYLIGHT
TZOFFSETFROM:+0000
TZOFFSETTO:+0100
TZNAME:BST
DTSTART:20250330T010000
END:DAYLIGHT
BEGIN:STANDARD
TZOFFSETFROM:+0100
TZOFFSETTO:+0000
TZNAME:GMT
DTSTART:20251026T010000
END:STANDARD
BEGIN:DAYLIGHT
TZOFFSETFROM:+0000
TZOFFSETTO:+0100
TZNAME:BST
DTSTART:20260329T010000
END:DAYLIGHT
BEGIN:STANDARD
TZOFFSETFROM:+0100
TZOFFSETTO:+0000
TZNAME:GMT
DTSTART:20261025T010000
END:STANDARD
BEGIN:DAYLIGHT
TZOFFSETFROM:+0000
TZOFFSETTO:+0100
TZNAME:BST
DTSTART:20270328T010000
END:DAYLIGHT
BEGIN:STANDARD
TZOFFSETFROM:+0100
TZOFFSETTO:+0000
TZNAME:GMT
DTSTART:20271031T010000
END:STANDARD
END:VTIMEZONE
BEGIN:VEVENT
DTSTART;TZID=Europe/London:20260307T070000
DTEND;TZID=Europe/London:20260307T233000
DTSTAMP:20260423T201651
CREATED:20251105T150353Z
LAST-MODIFIED:20251105T150353Z
UID:261023-1772866800-1772926200@bigupthenineties.net
SUMMARY:Venue 23\, Wakefield
DESCRIPTION:VENUE 23\, 23 Smyth St\, Wakefield\, WF1 1ED \nBig up the 90’s – The 90’s Experience! \nA live celebration of the music and fashions of the 90s. From boy bands to brit pop via girl power. \n“DANCE THE NIGHT AWAY” and Live “LA VIDA LOCA” when you head on down to the “LOVE SHACK.” You can “RELIGHT MY FIRE” with the guys responsible for Kick up the 80s. Justin\, Dean\, Ant and Mart\, giving you A “BRIMFUL OF ASHA” and making you “DIZZY” with delight. \n“MAN….I FEEL LIKE A WOMAN” when you “HIT ME BABY ONE MORE TIME.” At the ultimate 90s party you can “DISCO 2000” and do “THE MACARENA.” On any “SATURDAY NIGHT” you’ll feel “ALRIGHT”. \nCome “STEP ON” and “LET ME ENTERTAIN YOU.” While you “Mmmm BOP” all night long you won’t “SIT DOWN” and can never “STOP” dancing. \n“DON’T LOOK BACK IN ANGER” as you leave your “PARKLIFE” behind for the night you know “I’LL BE THERE FOR YOU” To “PLACE YOUR HANDS” on any “MYSTERIOUS GIRL”! \nSo “EVERYBODY GET UP”\, “HANG TOUGH” and party with the “ONE AND ONLY” BIG UP THE 90’s \nBig up the 90s will give you the best 90’s party night of your life. Bringing all the hits from the 90’s Big up the 90’s can accommodate most size venues from small venues to large theatres. They have also made a few festival appearances. Including playing to over 20000 people at the now Legendary Mathew Street Festival in Liverpool. The 90s party will have you up and dancing in no time. \nOnce again Big up the 90s have a very impressive client base including\, Woverhampton Racecourse\, The Robin 2 Bilston\, Holiday Inn\, Crewe Football Club and so many more……..
URL:https://bigupthenineties.net/event/venue-23-wakefield/
LOCATION:VENUE 23\, 23 Smyth Street\, Wakefield\, WF1 1ED
END:VEVENT
BEGIN:VEVENT
DTSTART;TZID=Europe/London:20260207T190000
DTEND;TZID=Europe/London:20260207T230000
DTSTAMP:20260423T201651
CREATED:20250722T103611Z
LAST-MODIFIED:20250722T103611Z
UID:261004-1770490800-1770505200@bigupthenineties.net
SUMMARY:The Concorde Club
DESCRIPTION:Age restrictions: No Minors. Box office: 023 8061 3989. Address: Stoneham Lane. Venue phone: 023 8061 3989. BIG UP THE 90S HEADLINE SHOW AT THE CONCORDE CLUB EASTLEIGH Our high energy live shows are packed full of essential 90’s anthems. The very best mix of the decade – Boy Bands to Girl Power\, Club Classics to Brit pop If it was BIG in the 90’s We can play it! Guaranteed Dance floor filling monster hits only! Buy Tickets   More
URL:https://bigupthenineties.net/event/the-concorde-club/
LOCATION:The Concorde Club\, STONEHAM LANE\, EASTLEIGH S050 9HQ\, EASTLEIGH\, S050 9HQ\, United Kingdom
END:VEVENT
BEGIN:VEVENT
DTSTART;TZID=Europe/London:20260201T190000
DTEND;TZID=Europe/London:20260201T230000
DTSTAMP:20260423T201651
CREATED:20250721T132338Z
LAST-MODIFIED:20250721T132425Z
UID:260992-1769972400-1769986800@bigupthenineties.net
SUMMARY:The Crew Bar
DESCRIPTION:
URL:https://bigupthenineties.net/event/the-crew/
LOCATION:The Crew Bar\, 75 Queens Rd\, Nuneaton\, United Kingdom
END:VEVENT
BEGIN:VEVENT
DTSTART;TZID=Europe/London:20251212T193000
DTEND;TZID=Europe/London:20251213T193000
DTSTAMP:20260423T201651
CREATED:20250611T214743Z
LAST-MODIFIED:20250830T105003Z
UID:260986-1765567800-1765654200@bigupthenineties.net
SUMMARY:Crewe Alexandra FC
DESCRIPTION:Age restrictions: No Minors. Box office: 01270 213 014. Address: The Alexandra Stadium Gresty Road. BIG UP THE 90S – HEADLINE SHOW Our high energy live shows are packed full of essential 90’s anthems. The very best mix of the decade – Boy Bands to Girl Power\, Club Classics to Brit pop If it was BIG in the 90’s We can play it! Guaranteed Dance floor filling monster hits only!
URL:https://bigupthenineties.net/event/crewe-alexandra-fc/
LOCATION:Crewe Alexandra FC\, The Alexandra Stadium Gresty Road\, Crewe\, Cheshire\, United Kingdom
ORGANIZER;CN="Big Up The 90s":MAILTO:bigupthe90s@hotmail.com
END:VEVENT
BEGIN:VEVENT
DTSTART;TZID=Europe/London:20251026T193000
DTEND;TZID=Europe/London:20251026T193000
DTSTAMP:20260423T201651
CREATED:20250611T212642Z
LAST-MODIFIED:20250611T213909Z
UID:260868-1761507000-1761507000@bigupthenineties.net
SUMMARY:The Crew Bar
DESCRIPTION:BIG UP THE 90S – HEADLINE SHOW at The Crew Nuneaton. Our high energy live shows are packed full of essential 90’s anthems. The very best mix of the decade – Boy Bands to Girl Power\, Club Classics to Brit pop If it was BIG in the 90’s We can play it! Guaranteed Dance floor filling monster hits only! \n75 Queens Rd.
URL:https://bigupthenineties.net/event/the-crew-bar/
LOCATION:The Crew Bar\, 75 Queens Rd\, Nuneaton\, United Kingdom
END:VEVENT
BEGIN:VEVENT
DTSTART;TZID=Europe/London:20250913T190000
DTEND;TZID=Europe/London:20250913T230000
DTSTAMP:20260423T201651
CREATED:20250722T172837Z
LAST-MODIFIED:20250830T110000Z
UID:261006-1757790000-1757804400@bigupthenineties.net
SUMMARY:The Gig - Acocks Green
DESCRIPTION:Big Up The 90’s Bring You The Ultimate 90’s Experience! \nHuge 90’s Hits – Iconic 90’s Artists \nOur high energy live shows are packed full of essential 90’s anthems. The very best mix of the decade – Boy Bands to Girl Power\, Club Classics to Brit pop If it was BIG in the 90’s We can play it! Guaranteed Dance floor filling monster hits only
URL:https://bigupthenineties.net/event/the-5-15-club/
LOCATION:The Gig – Station Road\, Acocks Green\, Birmingham B27 6DN\, Rear of 32\, Birmingham\, B27 6DN\, United Kingdom
END:VEVENT
BEGIN:VEVENT
DTSTART;TZID=Europe/London:20250809T193000
DTEND;TZID=Europe/London:20250809T233000
DTSTAMP:20260423T201651
CREATED:20250611T212642Z
LAST-MODIFIED:20250722T173533Z
UID:260869-1754767800-1754782200@bigupthenineties.net
SUMMARY:The Robin 2
DESCRIPTION:Time: 7:30am. Age restrictions: No Minors. Box office: 01902 401211. Venue phone: 01902 401211. BIG UP THE 90S – HEADLINE SHOW AT THE ROBIN BILSTON. Our high energy live shows are packed full of essential 90’s anthems. The very best mix of the decade – Boy Bands to Girl Power\, Club Classics to Brit pop If it was BIG in the 90’s We can play it! Guaranteed Dance floor filling monster hits only! \nRelated post. Buy Tickets More information
URL:https://bigupthenineties.net/event/the-robin-2-4/
LOCATION:The Robin 2\, Bilston\, United Kingdom
ORGANIZER;CN="Big Up The 90s":MAILTO:bigupthe90s@hotmail.com
END:VEVENT
END:VCALENDAR