BEGIN:VCALENDAR
VERSION:2.0
PRODID:-//Big Up The 90s - ECPv6.15.13//NONSGML v1.0//EN
CALSCALE:GREGORIAN
METHOD:PUBLISH
X-ORIGINAL-URL:https://bigupthenineties.net
X-WR-CALDESC:Events for Big Up The 90s
REFRESH-INTERVAL;VALUE=DURATION:PT1H
X-Robots-Tag:noindex
X-PUBLISHED-TTL:PT1H
BEGIN:VTIMEZONE
TZID:Europe/London
BEGIN:DAYLIGHT
TZOFFSETFROM:+0000
TZOFFSETTO:+0100
TZNAME:BST
DTSTART:20240331T010000
END:DAYLIGHT
BEGIN:STANDARD
TZOFFSETFROM:+0100
TZOFFSETTO:+0000
TZNAME:GMT
DTSTART:20241027T010000
END:STANDARD
BEGIN:DAYLIGHT
TZOFFSETFROM:+0000
TZOFFSETTO:+0100
TZNAME:BST
DTSTART:20250330T010000
END:DAYLIGHT
BEGIN:STANDARD
TZOFFSETFROM:+0100
TZOFFSETTO:+0000
TZNAME:GMT
DTSTART:20251026T010000
END:STANDARD
BEGIN:DAYLIGHT
TZOFFSETFROM:+0000
TZOFFSETTO:+0100
TZNAME:BST
DTSTART:20260329T010000
END:DAYLIGHT
BEGIN:STANDARD
TZOFFSETFROM:+0100
TZOFFSETTO:+0000
TZNAME:GMT
DTSTART:20261025T010000
END:STANDARD
END:VTIMEZONE
BEGIN:VEVENT
DTSTART;TZID=Europe/London:20251212T193000
DTEND;TZID=Europe/London:20251213T193000
DTSTAMP:20260423T231046
CREATED:20250611T214743Z
LAST-MODIFIED:20250830T105003Z
UID:260986-1765567800-1765654200@bigupthenineties.net
SUMMARY:Crewe Alexandra FC
DESCRIPTION:Age restrictions: No Minors. Box office: 01270 213 014. Address: The Alexandra Stadium Gresty Road. BIG UP THE 90S – HEADLINE SHOW Our high energy live shows are packed full of essential 90’s anthems. The very best mix of the decade – Boy Bands to Girl Power\, Club Classics to Brit pop If it was BIG in the 90’s We can play it! Guaranteed Dance floor filling monster hits only!
URL:https://bigupthenineties.net/event/crewe-alexandra-fc/
LOCATION:Crewe Alexandra FC\, The Alexandra Stadium Gresty Road\, Crewe\, Cheshire\, United Kingdom
ORGANIZER;CN="Big Up The 90s":MAILTO:bigupthe90s@hotmail.com
END:VEVENT
END:VCALENDAR